BEGIN:VCALENDAR
VERSION:2.0
PRODID:-// eRoom plugin //NONSGML v1.0//EN
CALSCALE:GREGORIAN
BEGIN:VEVENT
UID:eRoom-1776766794
SUMMARY:JUEVES 03 &#8211; 18:30 HORAS
LOCATION:Zoom
DESCRIPTION:JUEVES 03 &#8211\; 18:30 HORAS is inviting you to a scheduled Z
 oom meeting.\n\nJoin Zoom Meeting\nhttps://us02web.zoom.us/j/89523031756\n
 \nMeeting ID: 89523031756\nPasscode: TEORICAONLINE\n
URL;VALUE=URI:https://us02web.zoom.us/j/89523031756
DTSTART:20230803T163000Z
DTEND:20230803T163100Z
DTSTAMP:20260421T101954Z
BEGIN:VALARM
ACTION:DISPLAY
DESCRIPTION:Reminder
TRIGGER;RELATED=START:-PT15M
END:VALARM
END:VEVENT
END:VCALENDAR