BEGIN:VCALENDAR
VERSION:2.0
PRODID:-// eRoom plugin //NONSGML v1.0//EN
CALSCALE:GREGORIAN
BEGIN:VEVENT
UID:eRoom-1776766824
SUMMARY:JUEVES 16 &#8211; 18:30H
LOCATION:Zoom
DESCRIPTION:JUEVES 16 &#8211\; 18:30H is inviting you to a scheduled Zoom m
 eeting.\n\nJoin Zoom Meeting\nhttps://us02web.zoom.us/j/86150200037\n\nMee
 ting ID: 86150200037\n
URL;VALUE=URI:https://us02web.zoom.us/j/86150200037
DTSTART:20220616T163000Z
DTEND:20220616T163100Z
DTSTAMP:20260421T102024Z
BEGIN:VALARM
ACTION:DISPLAY
DESCRIPTION:Reminder
TRIGGER;RELATED=START:-PT15M
END:VALARM
END:VEVENT
END:VCALENDAR