BEGIN:VCALENDAR
VERSION:2.0
PRODID:-// eRoom plugin //NONSGML v1.0//EN
CALSCALE:GREGORIAN
BEGIN:VEVENT
UID:eRoom-1776766539
SUMMARY:JUEVES 3 &#8211; 18:30H
LOCATION:Zoom
DESCRIPTION:JUEVES 3 &#8211\; 18:30H is inviting you to a scheduled Zoom me
 eting.\n\nJoin Zoom Meeting\nhttps://us02web.zoom.us/j/84550764742\n\nMeet
 ing ID: 84550764742\n
URL;VALUE=URI:https://us02web.zoom.us/j/84550764742
DTSTART:20220303T173000Z
DTEND:20220303T173100Z
DTSTAMP:20260421T101539Z
BEGIN:VALARM
ACTION:DISPLAY
DESCRIPTION:Reminder
TRIGGER;RELATED=START:-PT15M
END:VALARM
END:VEVENT
END:VCALENDAR