BEGIN:VCALENDAR
VERSION:2.0
PRODID:-// eRoom plugin //NONSGML v1.0//EN
CALSCALE:GREGORIAN
BEGIN:VEVENT
UID:eRoom-1776765284
SUMMARY:LUNES 21 &#8211; 11:30H
LOCATION:Zoom
DESCRIPTION:LUNES 21 &#8211\; 11:30H is inviting you to a scheduled Zoom me
 eting.\n\nJoin Zoom Meeting\nhttps://us02web.zoom.us/j/87958609111\n\nMeet
 ing ID: 87958609111\n
URL;VALUE=URI:https://us02web.zoom.us/j/87958609111
DTSTART:20221121T103000Z
DTEND:20221121T103100Z
DTSTAMP:20260421T095444Z
BEGIN:VALARM
ACTION:DISPLAY
DESCRIPTION:Reminder
TRIGGER;RELATED=START:-PT15M
END:VALARM
END:VEVENT
END:VCALENDAR