BEGIN:VCALENDAR
VERSION:2.0
PRODID:-// eRoom plugin //NONSGML v1.0//EN
CALSCALE:GREGORIAN
BEGIN:VEVENT
UID:eRoom-1776991969
SUMMARY:LUNES 30 &#8211; 11:30H
LOCATION:Zoom
DESCRIPTION:LUNES 30 &#8211\; 11:30H is inviting you to a scheduled Zoom me
 eting.\n\nJoin Zoom Meeting\nhttps://us02web.zoom.us/j/81288898822\n\nMeet
 ing ID: 81288898822\n
URL;VALUE=URI:https://us02web.zoom.us/j/81288898822
DTSTART:20210830T093000Z
DTEND:20210830T093100Z
DTSTAMP:20260424T005249Z
BEGIN:VALARM
ACTION:DISPLAY
DESCRIPTION:Reminder
TRIGGER;RELATED=START:-PT15M
END:VALARM
END:VEVENT
END:VCALENDAR