BEGIN:VCALENDAR
VERSION:2.0
PRODID:-// eRoom plugin //NONSGML v1.0//EN
CALSCALE:GREGORIAN
BEGIN:VEVENT
UID:eRoom-1776760360
SUMMARY:MARTES 14 &#8211; 16:00H
LOCATION:Zoom
DESCRIPTION:MARTES 14 &#8211\; 16:00H is inviting you to a scheduled Zoom m
 eeting.\n\nJoin Zoom Meeting\nhttps://us02web.zoom.us/j/84253818466\n\nMee
 ting ID: 84253818466\n
URL;VALUE=URI:https://us02web.zoom.us/j/84253818466
DTSTART:20210914T140000Z
DTEND:20210914T140100Z
DTSTAMP:20260421T083240Z
BEGIN:VALARM
ACTION:DISPLAY
DESCRIPTION:Reminder
TRIGGER;RELATED=START:-PT15M
END:VALARM
END:VEVENT
END:VCALENDAR