BEGIN:VCALENDAR
VERSION:2.0
PRODID:-// eRoom plugin //NONSGML v1.0//EN
CALSCALE:GREGORIAN
BEGIN:VEVENT
UID:eRoom-1776765578
SUMMARY:MARTES 2 &#8211; 11:30H
LOCATION:Zoom
DESCRIPTION:MARTES 2 &#8211\; 11:30H is inviting you to a scheduled Zoom me
 eting.\n\nJoin Zoom Meeting\nhttps://us02web.zoom.us/j/83981654927\n\nMeet
 ing ID: 83981654927\n
URL;VALUE=URI:https://us02web.zoom.us/j/83981654927
DTSTART:20210302T103000Z
DTEND:20210302T103100Z
DTSTAMP:20260421T095938Z
BEGIN:VALARM
ACTION:DISPLAY
DESCRIPTION:Reminder
TRIGGER;RELATED=START:-PT15M
END:VALARM
END:VEVENT
END:VCALENDAR