BEGIN:VCALENDAR
VERSION:2.0
PRODID:-// eRoom plugin //NONSGML v1.0//EN
CALSCALE:GREGORIAN
BEGIN:VEVENT
UID:eRoom-1776674162
SUMMARY:MARTES 22 &#8211; 18:30H
LOCATION:
DESCRIPTION:MARTES 22 &#8211\; 18:30H is inviting you to a scheduled Zoom m
 eeting.\n\nJoin Zoom Meeting\nhttps://us02web.zoom.us/j/81087414511\n\nMee
 ting ID: 81087414511\n
URL;VALUE=URI:https://us02web.zoom.us/j/81087414511
DTSTART:20210622T163000Z
DTEND:20210622T163100Z
DTSTAMP:20260420T083602Z
BEGIN:VALARM
ACTION:DISPLAY
RIGGER;RELATED=START:-PT00H15M00S
BEGIN:VALARM
END:VEVENT
END:VCALENDAR