BEGIN:VCALENDAR
VERSION:2.0
PRODID:-// eRoom plugin //NONSGML v1.0//EN
CALSCALE:GREGORIAN
BEGIN:VEVENT
UID:eRoom-1776957768
SUMMARY:MARTES 23 &#8211; 11:30H
LOCATION:Zoom
DESCRIPTION:MARTES 23 &#8211\; 11:30H is inviting you to a scheduled Zoom m
 eeting.\n\nJoin Zoom Meeting\nhttps://us02web.zoom.us/j/84362804826\n\nMee
 ting ID: 84362804826\n
URL;VALUE=URI:https://us02web.zoom.us/j/84362804826
DTSTART:20210323T103000Z
DTEND:20210323T103100Z
DTSTAMP:20260423T152248Z
BEGIN:VALARM
ACTION:DISPLAY
DESCRIPTION:Reminder
TRIGGER;RELATED=START:-PT15M
END:VALARM
END:VEVENT
END:VCALENDAR