BEGIN:VCALENDAR
VERSION:2.0
PRODID:-// eRoom plugin //NONSGML v1.0//EN
CALSCALE:GREGORIAN
BEGIN:VEVENT
UID:eRoom-1776764877
SUMMARY:MARTES 30 &#8211; 11:30H
LOCATION:Zoom
DESCRIPTION:MARTES 30 &#8211\; 11:30H is inviting you to a scheduled Zoom m
 eeting.\n\nJoin Zoom Meeting\nhttps://us02web.zoom.us/j/85920432305\n\nMee
 ting ID: 85920432305\n
URL;VALUE=URI:https://us02web.zoom.us/j/85920432305
DTSTART:20220830T093000Z
DTEND:20220830T093100Z
DTSTAMP:20260421T094757Z
BEGIN:VALARM
ACTION:DISPLAY
DESCRIPTION:Reminder
TRIGGER;RELATED=START:-PT15M
END:VALARM
END:VEVENT
END:VCALENDAR