BEGIN:VCALENDAR
VERSION:2.0
PRODID:-// eRoom plugin //NONSGML v1.0//EN
CALSCALE:GREGORIAN
BEGIN:VEVENT
UID:eRoom-1777077170
SUMMARY:MIÉRCOLES 13 &#8211; 18:30H
LOCATION:Zoom
DESCRIPTION:MIÉRCOLES 13 &#8211\; 18:30H is inviting you to a scheduled Zo
 om meeting.\n\nJoin Zoom Meeting\nhttps://us02web.zoom.us/j/84813423081\n
 \nMeeting ID: 84813423081\n
URL;VALUE=URI:https://us02web.zoom.us/j/84813423081
DTSTART:20220713T163000Z
DTEND:20220713T163100Z
DTSTAMP:20260425T003250Z
BEGIN:VALARM
ACTION:DISPLAY
DESCRIPTION:Reminder
TRIGGER;RELATED=START:-PT15M
END:VALARM
END:VEVENT
END:VCALENDAR