BEGIN:VCALENDAR
VERSION:2.0
PRODID:-// eRoom plugin //NONSGML v1.0//EN
CALSCALE:GREGORIAN
BEGIN:VEVENT
UID:eRoom-1776765827
SUMMARY:MIÉRCOLES 18 &#8211; 18:30H
LOCATION:Zoom
DESCRIPTION:MIÉRCOLES 18 &#8211\; 18:30H is inviting you to a scheduled Zo
 om meeting.\n\nJoin Zoom Meeting\nhttps://us02web.zoom.us/j/83688873642\n
 \nMeeting ID: 83688873642\n
URL;VALUE=URI:https://us02web.zoom.us/j/83688873642
DTSTART:20230118T173000Z
DTEND:20230118T173100Z
DTSTAMP:20260421T100347Z
BEGIN:VALARM
ACTION:DISPLAY
DESCRIPTION:Reminder
TRIGGER;RELATED=START:-PT15M
END:VALARM
END:VEVENT
END:VCALENDAR