BEGIN:VCALENDAR
VERSION:2.0
PRODID:-// eRoom plugin //NONSGML v1.0//EN
CALSCALE:GREGORIAN
BEGIN:VEVENT
UID:eRoom-1776765003
SUMMARY:MIÉRCOLES 2 &#8211; 11:30H
LOCATION:Zoom
DESCRIPTION:MIÉRCOLES 2 &#8211\; 11:30H is inviting you to a scheduled Zoo
 m meeting.\n\nJoin Zoom Meeting\nhttps://us02web.zoom.us/j/89652795257\n\n
 Meeting ID: 89652795257\n
URL;VALUE=URI:https://us02web.zoom.us/j/89652795257
DTSTART:20220302T103000Z
DTEND:20220302T103100Z
DTSTAMP:20260421T095003Z
BEGIN:VALARM
ACTION:DISPLAY
DESCRIPTION:Reminder
TRIGGER;RELATED=START:-PT15M
END:VALARM
END:VEVENT
END:VCALENDAR