BEGIN:VCALENDAR
VERSION:2.0
PRODID:-// eRoom plugin //NONSGML v1.0//EN
CALSCALE:GREGORIAN
BEGIN:VEVENT
UID:eRoom-1776766504
SUMMARY:MIÉRCOLES 20 &#8211; 16:00H
LOCATION:Zoom
DESCRIPTION:MIÉRCOLES 20 &#8211\; 16:00H is inviting you to a scheduled Zo
 om meeting.\n\nJoin Zoom Meeting\nhttps://us02web.zoom.us/j/85131621880\n
 \nMeeting ID: 85131621880\n
URL;VALUE=URI:https://us02web.zoom.us/j/85131621880
DTSTART:20220420T140000Z
DTEND:20220420T140100Z
DTSTAMP:20260421T101504Z
BEGIN:VALARM
ACTION:DISPLAY
DESCRIPTION:Reminder
TRIGGER;RELATED=START:-PT15M
END:VALARM
END:VEVENT
END:VCALENDAR