BEGIN:VCALENDAR
VERSION:2.0
PRODID:-// eRoom plugin //NONSGML v1.0//EN
CALSCALE:GREGORIAN
BEGIN:VEVENT
UID:eRoom-1776766217
SUMMARY:MIÉRCOLES 25 &#8211; 11:30H
LOCATION:Zoom
DESCRIPTION:MIÉRCOLES 25 &#8211\; 11:30H is inviting you to a scheduled Zo
 om meeting.\n\nJoin Zoom Meeting\nhttps://us02web.zoom.us/j/83937969041\n
 \nMeeting ID: 83937969041\n
URL;VALUE=URI:https://us02web.zoom.us/j/83937969041
DTSTART:20230125T103000Z
DTEND:20230125T103100Z
DTSTAMP:20260421T101017Z
BEGIN:VALARM
ACTION:DISPLAY
DESCRIPTION:Reminder
TRIGGER;RELATED=START:-PT15M
END:VALARM
END:VEVENT
END:VCALENDAR