BEGIN:VCALENDAR
VERSION:2.0
PRODID:-// eRoom plugin //NONSGML v1.0//EN
CALSCALE:GREGORIAN
BEGIN:VEVENT
UID:eRoom-1777052047
SUMMARY:VIERNES 2 &#8211; 11:30H
LOCATION:Zoom
DESCRIPTION:VIERNES 2 &#8211\; 11:30H is inviting you to a scheduled Zoom m
 eeting.\n\nJoin Zoom Meeting\nhttps://us02web.zoom.us/j/87023588532\n\nMee
 ting ID: 87023588532\n
URL;VALUE=URI:https://us02web.zoom.us/j/87023588532
DTSTART:20221202T103000Z
DTEND:20221202T103100Z
DTSTAMP:20260424T173407Z
BEGIN:VALARM
ACTION:DISPLAY
DESCRIPTION:Reminder
TRIGGER;RELATED=START:-PT15M
END:VALARM
END:VEVENT
END:VCALENDAR