BEGIN:VCALENDAR
VERSION:2.0
PRODID:-// eRoom plugin //NONSGML v1.0//EN
CALSCALE:GREGORIAN
BEGIN:VEVENT
UID:eRoom-1776766758
SUMMARY:VIERNES 21 &#8211; 18:30H
LOCATION:Zoom
DESCRIPTION:VIERNES 21 &#8211\; 18:30H is inviting you to a scheduled Zoom 
 meeting.\n\nJoin Zoom Meeting\nhttps://us02web.zoom.us/j/86705960312\n\nMe
 eting ID: 86705960312\n
URL;VALUE=URI:https://us02web.zoom.us/j/86705960312
DTSTART:20210521T163000Z
DTEND:20210521T163100Z
DTSTAMP:20260421T101918Z
BEGIN:VALARM
ACTION:DISPLAY
DESCRIPTION:Reminder
TRIGGER;RELATED=START:-PT15M
END:VALARM
END:VEVENT
END:VCALENDAR