BEGIN:VCALENDAR
VERSION:2.0
PRODID:-// eRoom plugin //NONSGML v1.0//EN
CALSCALE:GREGORIAN
BEGIN:VEVENT
UID:eRoom-1776930838
SUMMARY:VIERNES 22 &#8211; 18:30H
LOCATION:Zoom
DESCRIPTION:VIERNES 22 &#8211\; 18:30H is inviting you to a scheduled Zoom 
 meeting.\n\nJoin Zoom Meeting\nhttps://us02web.zoom.us/j/83415109838\n\nMe
 eting ID: 83415109838\n
URL;VALUE=URI:https://us02web.zoom.us/j/83415109838
DTSTART:20210122T173000Z
DTEND:20210122T173100Z
DTSTAMP:20260423T075358Z
BEGIN:VALARM
ACTION:DISPLAY
DESCRIPTION:Reminder
TRIGGER;RELATED=START:-PT15M
END:VALARM
END:VEVENT
END:VCALENDAR