BEGIN:VCALENDAR
VERSION:2.0
PRODID:-// eRoom plugin //NONSGML v1.0//EN
CALSCALE:GREGORIAN
BEGIN:VEVENT
UID:eRoom-1776765447
SUMMARY:VIERNES 4 &#8211; 18:30H
LOCATION:Zoom
DESCRIPTION:VIERNES 4 &#8211\; 18:30H is inviting you to a scheduled Zoom m
 eeting.\n\nJoin Zoom Meeting\nhttps://us02web.zoom.us/j/89969029779\n\nMee
 ting ID: 89969029779\n
URL;VALUE=URI:https://us02web.zoom.us/j/89969029779
DTSTART:20210604T163000Z
DTEND:20210604T163100Z
DTSTAMP:20260421T095727Z
BEGIN:VALARM
ACTION:DISPLAY
DESCRIPTION:Reminder
TRIGGER;RELATED=START:-PT15M
END:VALARM
END:VEVENT
END:VCALENDAR